BEGIN:VCALENDAR
VERSION:2.0
PRODID:-//Location de salle Vesoul, Haute-Saône : Parc Expo 70 Vesoul - ECPv4.8.1//NONSGML v1.0//EN
CALSCALE:GREGORIAN
METHOD:PUBLISH
X-WR-CALNAME:Location de salle Vesoul, Haute-Saône : Parc Expo 70 Vesoul
X-ORIGINAL-URL:https://www.parcexpo70.fr
X-WR-CALDESC:Évènements pour Location de salle Vesoul, Haute-Saône : Parc Expo 70 Vesoul
BEGIN:VEVENT
DTSTART;TZID=Europe/Paris:20180326T170000
DTEND;TZID=Europe/Paris:20180326T200000
DTSTAMP:20260423T071347
CREATED:20180215T081557Z
LAST-MODIFIED:20180326T082503Z
UID:1008-1522083600-1522094400@www.parcexpo70.fr
SUMMARY:Assemblée générale
DESCRIPTION:
URL:https://www.parcexpo70.fr/event/assemblee-generale-10/
LOCATION:Salon Innovation\, Parc Expo 70\, Vesoul
CATEGORIES:AG
END:VEVENT
END:VCALENDAR