BEGIN:VCALENDAR
VERSION:2.0
PRODID:-//Location de salle Vesoul, Haute-Saône : Parc Expo 70 Vesoul - ECPv4.8.1//NONSGML v1.0//EN
CALSCALE:GREGORIAN
METHOD:PUBLISH
X-WR-CALNAME:Location de salle Vesoul, Haute-Saône : Parc Expo 70 Vesoul
X-ORIGINAL-URL:https://www.parcexpo70.fr
X-WR-CALDESC:Évènements pour Location de salle Vesoul, Haute-Saône : Parc Expo 70 Vesoul
BEGIN:VEVENT
DTSTART;TZID=Europe/Paris:20181126T170000
DTEND;TZID=Europe/Paris:20181126T220000
DTSTAMP:20260419T224513
CREATED:20181011T113737Z
LAST-MODIFIED:20181011T114040Z
UID:1328-1543251600-1543269600@www.parcexpo70.fr
SUMMARY:Assemblée Générale*
DESCRIPTION:
URL:https://www.parcexpo70.fr/event/assemblee-generale-3/
LOCATION:Salon Innovation\, Parc Expo 70\, Vesoul
CATEGORIES:AG
ORGANIZER;CN="CCI%20Sa%C3%B4ne%20Doubs":MAILTO:03 81 25 25 25
END:VEVENT
END:VCALENDAR