BEGIN:VCALENDAR
VERSION:2.0
PRODID:-//Location de salle Vesoul, Haute-Saône : Parc Expo 70 Vesoul - ECPv4.8.1//NONSGML v1.0//EN
CALSCALE:GREGORIAN
METHOD:PUBLISH
X-WR-CALNAME:Location de salle Vesoul, Haute-Saône : Parc Expo 70 Vesoul
X-ORIGINAL-URL:https://www.parcexpo70.fr
X-WR-CALDESC:Évènements pour Location de salle Vesoul, Haute-Saône : Parc Expo 70 Vesoul
BEGIN:VEVENT
DTSTART;TZID=Europe/Paris:20201119T060000
DTEND;TZID=Europe/Paris:20201119T183000
DTSTAMP:20260424T024106
CREATED:20191216T125958Z
LAST-MODIFIED:20200403T071131Z
UID:1642-1605765600-1605810600@www.parcexpo70.fr
SUMMARY:Concours attaché territorial
DESCRIPTION:
URL:https://www.parcexpo70.fr/event/concours-attache-territorial/
LOCATION:Parc Expo 70\, 1 rue Victor Dollé\, Vesoul\, 70000\, France
CATEGORIES:Concours-Examens
ATTACH;FMTTYPE=image/jpeg:https://www.parcexpo70.fr/wp-content/uploads/concours.jpg
END:VEVENT
END:VCALENDAR