BEGIN:VCALENDAR
VERSION:2.0
PRODID:-//Location de salle Vesoul, Haute-Saône : Parc Expo 70 Vesoul - ECPv4.8.1//NONSGML v1.0//EN
CALSCALE:GREGORIAN
METHOD:PUBLISH
X-WR-CALNAME:Location de salle Vesoul, Haute-Saône : Parc Expo 70 Vesoul
X-ORIGINAL-URL:https://www.parcexpo70.fr
X-WR-CALDESC:Évènements pour Location de salle Vesoul, Haute-Saône : Parc Expo 70 Vesoul
BEGIN:VEVENT
DTSTART;TZID=Europe/Paris:20201013T080000
DTEND;TZID=Europe/Paris:20201013T180000
DTSTAMP:20260424T041130
CREATED:20200716T073851Z
LAST-MODIFIED:20200716T073922Z
UID:1739-1602576000-1602612000@www.parcexpo70.fr
SUMMARY:Concours d’Ingénieur Territorial du C.D.G. 67 (Centre de Gestion du Bas-Rhin)
DESCRIPTION:
URL:https://www.parcexpo70.fr/event/concours-dingenieur-territorial-du-c-d-g-67-centre-de-gestion-du-bas-rhin/
LOCATION:Parc Expo 70\, 1 rue Victor Dollé\, Vesoul\, 70000\, France
CATEGORIES:Concours-Examens
ATTACH;FMTTYPE=image/jpeg:https://www.parcexpo70.fr/wp-content/uploads/concours.jpg
END:VEVENT
END:VCALENDAR