BEGIN:VCALENDAR
VERSION:2.0
PRODID:-//Location de salle Vesoul, Haute-Saône : Parc Expo 70 Vesoul - ECPv4.8.1//NONSGML v1.0//EN
CALSCALE:GREGORIAN
METHOD:PUBLISH
X-WR-CALNAME:Location de salle Vesoul, Haute-Saône : Parc Expo 70 Vesoul
X-ORIGINAL-URL:https://www.parcexpo70.fr
X-WR-CALDESC:Évènements pour Location de salle Vesoul, Haute-Saône : Parc Expo 70 Vesoul
BEGIN:VEVENT
DTSTART;TZID=Europe/Paris:20220707T190000
DTEND;TZID=Europe/Paris:20220707T220000
DTSTAMP:20260420T184855
CREATED:20220524T070038Z
LAST-MODIFIED:20220615T140626Z
UID:1937-1657220400-1657231200@www.parcexpo70.fr
SUMMARY:Conférence « Sens et responsabilité en temps de crise » par Luc Ferry
DESCRIPTION:➔ Je m’inscris\n\n\n\n\n\n\n\n\n\nJeudi 7 juillet 2022\n\n\n\n\n\n\n\n\n\n\n\n\n­\n\n\n\n\nAccueil à 19h  \nConférence à 19h15ParcExpo70 – 1 rue Victor Dollé – Zone Technologia – 70000 Vesoul \n\n\n\n\n\n\n\n\n\n
URL:https://www.parcexpo70.fr/event/conference-luc-ferry-sens-et-responsabilites-en-temps-de-crise/
LOCATION:Amphithéatre ParcExpo70\, Parcexpo70 1 rue Victor Dollé\, Vesoul\, 70000\, France
CATEGORIES:Conférence
ATTACH;FMTTYPE=image/png:https://www.parcexpo70.fr/wp-content/uploads/invitation-luc-ferry.png
ORGANIZER;CN="CCI%20Sa%C3%B4ne%20Doubs":MAILTO:03 81 25 25 25
END:VEVENT
END:VCALENDAR