BEGIN:VCALENDAR
VERSION:2.0
PRODID:-//Location de salle Vesoul, Haute-Saône : Parc Expo 70 Vesoul - ECPv4.8.1//NONSGML v1.0//EN
CALSCALE:GREGORIAN
METHOD:PUBLISH
X-WR-CALNAME:Location de salle Vesoul, Haute-Saône : Parc Expo 70 Vesoul
X-ORIGINAL-URL:https://www.parcexpo70.fr
X-WR-CALDESC:Évènements pour Location de salle Vesoul, Haute-Saône : Parc Expo 70 Vesoul
BEGIN:VEVENT
DTSTART;TZID=Europe/Paris:20181127T084500
DTEND;TZID=Europe/Paris:20181127T180000
DTSTAMP:20260420T001125
CREATED:20181011T113739Z
LAST-MODIFIED:20181011T114042Z
UID:1329-1543308300-1543341600@www.parcexpo70.fr
SUMMARY:Réunion*
DESCRIPTION:
URL:https://www.parcexpo70.fr/event/reunion-14/
LOCATION:Salon Performance\, Parc Expo 70
CATEGORIES:Réunion-Congrès
END:VEVENT
END:VCALENDAR