BEGIN:VCALENDAR
VERSION:2.0
PRODID:-//Location de salle Vesoul, Haute-Saône : Parc Expo 70 Vesoul - ECPv4.8.1//NONSGML v1.0//EN
CALSCALE:GREGORIAN
METHOD:PUBLISH
X-WR-CALNAME:Location de salle Vesoul, Haute-Saône : Parc Expo 70 Vesoul
X-ORIGINAL-URL:https://www.parcexpo70.fr
X-WR-CALDESC:Évènements pour Location de salle Vesoul, Haute-Saône : Parc Expo 70 Vesoul
BEGIN:VEVENT
DTSTART;TZID=Europe/Paris:20220903T100000
DTEND;TZID=Europe/Paris:20220904T190000
DTSTAMP:20260420T202533
CREATED:20220719T140701Z
LAST-MODIFIED:20220719T140701Z
UID:1969-1662199200-1662318000@www.parcexpo70.fr
SUMMARY:TATTOO SHOW 2022
DESCRIPTION:Samedi : 10h => 22h\nDimanche : 10h => 19h \nTarifs : \n8€ la journée\n14€ pass 2 jours \n
URL:https://www.parcexpo70.fr/event/tattoo-show-2022/
LOCATION:Parc Expo 70\, 1 rue Victor Dollé\, Vesoul\, 70000\, France
CATEGORIES:Salons-Foires
ATTACH;FMTTYPE=image/png:https://www.parcexpo70.fr/wp-content/uploads/70tattooshow2022.png
END:VEVENT
END:VCALENDAR